BEGIN:VCALENDAR
VERSION:2.0
PRODID:-//SIPCW - ECPv6.15.18//NONSGML v1.0//EN
CALSCALE:GREGORIAN
METHOD:PUBLISH
X-WR-CALNAME:SIPCW
X-ORIGINAL-URL:http://sipcw.org
X-WR-CALDESC:Events for SIPCW
REFRESH-INTERVAL;VALUE=DURATION:PT1H
X-Robots-Tag:noindex
X-PUBLISHED-TTL:PT1H
BEGIN:VTIMEZONE
TZID:America/New_York
BEGIN:DAYLIGHT
TZOFFSETFROM:-0500
TZOFFSETTO:-0400
TZNAME:EDT
DTSTART:20160313T070000
END:DAYLIGHT
BEGIN:STANDARD
TZOFFSETFROM:-0400
TZOFFSETTO:-0500
TZNAME:EST
DTSTART:20161106T060000
END:STANDARD
BEGIN:DAYLIGHT
TZOFFSETFROM:-0500
TZOFFSETTO:-0400
TZNAME:EDT
DTSTART:20170312T070000
END:DAYLIGHT
BEGIN:STANDARD
TZOFFSETFROM:-0400
TZOFFSETTO:-0500
TZNAME:EST
DTSTART:20171105T060000
END:STANDARD
BEGIN:DAYLIGHT
TZOFFSETFROM:-0500
TZOFFSETTO:-0400
TZNAME:EDT
DTSTART:20180311T070000
END:DAYLIGHT
BEGIN:STANDARD
TZOFFSETFROM:-0400
TZOFFSETTO:-0500
TZNAME:EST
DTSTART:20181104T060000
END:STANDARD
END:VTIMEZONE
BEGIN:VEVENT
DTSTART;TZID=America/New_York:20170325T090000
DTEND;TZID=America/New_York:20170325T123000
DTSTAMP:20260419T225256
CREATED:20170307T224558Z
LAST-MODIFIED:20170309T171742Z
UID:1662-1490432400-1490445000@sipcw.org
SUMMARY:Alcohol and Cancer Forum
DESCRIPTION:
URL:http://sipcw.org/event/alcohol-cancer-forum/
LOCATION:The Regina McGinn Education Center at Staten Island Hospital\, 475 Seaview Avenue\, Staten Island\, NY\, 10305\, United States
END:VEVENT
BEGIN:VEVENT
DTSTART;TZID=America/New_York:20170317T082000
DTEND;TZID=America/New_York:20170317T144000
DTSTAMP:20260419T225256
CREATED:20170307T224434Z
LAST-MODIFIED:20170307T224434Z
UID:1658-1489738800-1489761600@sipcw.org
SUMMARY:2nd Annual Staten Island School Garden Summit
DESCRIPTION:
URL:http://sipcw.org/event/2nd-annual-staten-island-school-garden-summit/
LOCATION:Michael J. Petrides School\, 715 Ocean Terrace\, Staten Island\, NY\, 10301\, United States
END:VEVENT
BEGIN:VEVENT
DTSTART;TZID=America/New_York:20170312T120000
DTEND;TZID=America/New_York:20170312T150000
DTSTAMP:20260419T225256
CREATED:20170307T224303Z
LAST-MODIFIED:20170308T161016Z
UID:1654-1489320000-1489330800@sipcw.org
SUMMARY:Free Stop ‘N’ Swap Community Reuse Event
DESCRIPTION:
URL:http://sipcw.org/event/free-stop-n-swap-community-reuse-event/
LOCATION:Staten Island South Shore YMCA\, 3939 Richmond Ave\, Staten Island\, NY\, 10312\, United States
END:VEVENT
END:VCALENDAR